BEGIN:VCALENDAR
VERSION:2.0
PRODID:-//CARA - Coast Amateur Rowing Association - ECPv6.15.20//NONSGML v1.0//EN
CALSCALE:GREGORIAN
METHOD:PUBLISH
X-WR-CALNAME:CARA - Coast Amateur Rowing Association
X-ORIGINAL-URL:https://www.coastara.org
X-WR-CALDESC:Events for CARA - Coast Amateur Rowing Association
REFRESH-INTERVAL;VALUE=DURATION:PT1H
X-Robots-Tag:noindex
X-PUBLISHED-TTL:PT1H
BEGIN:VTIMEZONE
TZID:Europe/London
BEGIN:DAYLIGHT
TZOFFSETFROM:+0000
TZOFFSETTO:+0100
TZNAME:BST
DTSTART:20240331T010000
END:DAYLIGHT
BEGIN:STANDARD
TZOFFSETFROM:+0100
TZOFFSETTO:+0000
TZNAME:GMT
DTSTART:20241027T010000
END:STANDARD
BEGIN:DAYLIGHT
TZOFFSETFROM:+0000
TZOFFSETTO:+0100
TZNAME:BST
DTSTART:20250330T010000
END:DAYLIGHT
BEGIN:STANDARD
TZOFFSETFROM:+0100
TZOFFSETTO:+0000
TZNAME:GMT
DTSTART:20251026T010000
END:STANDARD
BEGIN:DAYLIGHT
TZOFFSETFROM:+0000
TZOFFSETTO:+0100
TZNAME:BST
DTSTART:20260329T010000
END:DAYLIGHT
BEGIN:STANDARD
TZOFFSETFROM:+0100
TZOFFSETTO:+0000
TZNAME:GMT
DTSTART:20261025T010000
END:STANDARD
END:VTIMEZONE
BEGIN:VEVENT
DTSTART;TZID=Europe/London:20250628T000000
DTEND;TZID=Europe/London:20250628T235959
DTSTAMP:20260420T110414
CREATED:20150328T225502Z
LAST-MODIFIED:20250106T104811Z
UID:700-1751068800-1751155199@www.coastara.org
SUMMARY:Southsea Regatta 2025
DESCRIPTION:NOTE: Alternative Date 16th August 2025 \n\n\n\n \n\n\n\nSouthsea Regatta is the biggest Coastal Regatta of the season and is the only one which is attended by all clubs from CARA and the HDARA also.  \n\n\n\nResults: \n\n\n\nNote: Results are provisional shown otherwise – this can take up to 7days \n\n\n\nFinal Confirmed ResultsSeparately list the 1st three CARA crews over the line\nChampionship EventsVerdict1st2nd3rd4th5th6th1stOpen Novice Sculls NonNonNonHastNonNonHOpen Junior Sculls DovNonBexShorNonDealDvOpen Senior Sculls NonHBayHBayBexNonNonHBOpen Double Sculls NonShorShorBexHBayShorSmWomens Novice Sculls SseaShorNonShorEastNonSoWomens Junior Sculls HastWortHBayNonHWomens Double Sculls ShorShorNonHBayHBayNonSmOpen Junior Pairs NonHBayNonHastWortEastHBOpen Senior PairsDealNonHBayNonNonDealDeWomens Junior Pairs NonEastNonShorNonShorEWomens Senior Pairs HBayShorNonNonNonNonHBOpen Novice Fours NonNonNonEastNonShorEOpen Junior Fours WortNonSseaNonNonHastWOpen J/S Fours NonNonBexNonEastBxOpen Senior Fours DealShorNonNonNonNonDeWomens Novice Fours NonNonHBayNonNonEastHBWomens Junior Fours ShorNonNonNonNonNonWomens Senior FoursNonShorNonHBayShorSseaSmMasters Open 40+ Fours NonNonHastNonEastHBayHMasters Women's 40+ Fours NonShorNonNonNonNonSmMasters Open 50+ Fours NonHastHBayNonWortSseaH              Non League Championships       Separately list the 1st three CARA crews over the lineVerdict1st2nd3rd4th5th6th1stJ14 Mixed Quads NonNonShorNonHBayWortJ16 Mens Quads NonNonShorNonNonNonJ16 Womens Quads NonShorNonNonHBayShor
URL:https://www.coastara.org/events/southsea-regatta-2015/
LOCATION:Southsea Esplanade\, Esplanade\, Southsea\, Hampshire\, PO4 9RU\, United Kingdom
CATEGORIES:Regatta
END:VEVENT
END:VCALENDAR