BEGIN:VCALENDAR
VERSION:2.0
PRODID:-//CARA - Coast Amateur Rowing Association - ECPv6.15.20//NONSGML v1.0//EN
CALSCALE:GREGORIAN
METHOD:PUBLISH
X-WR-CALNAME:CARA - Coast Amateur Rowing Association
X-ORIGINAL-URL:https://www.coastara.org
X-WR-CALDESC:Events for CARA - Coast Amateur Rowing Association
REFRESH-INTERVAL;VALUE=DURATION:PT1H
X-Robots-Tag:noindex
X-PUBLISHED-TTL:PT1H
BEGIN:VTIMEZONE
TZID:Europe/London
BEGIN:DAYLIGHT
TZOFFSETFROM:+0000
TZOFFSETTO:+0100
TZNAME:BST
DTSTART:20240331T010000
END:DAYLIGHT
BEGIN:STANDARD
TZOFFSETFROM:+0100
TZOFFSETTO:+0000
TZNAME:GMT
DTSTART:20241027T010000
END:STANDARD
BEGIN:DAYLIGHT
TZOFFSETFROM:+0000
TZOFFSETTO:+0100
TZNAME:BST
DTSTART:20250330T010000
END:DAYLIGHT
BEGIN:STANDARD
TZOFFSETFROM:+0100
TZOFFSETTO:+0000
TZNAME:GMT
DTSTART:20251026T010000
END:STANDARD
BEGIN:DAYLIGHT
TZOFFSETFROM:+0000
TZOFFSETTO:+0100
TZNAME:BST
DTSTART:20260329T010000
END:DAYLIGHT
BEGIN:STANDARD
TZOFFSETFROM:+0100
TZOFFSETTO:+0000
TZNAME:GMT
DTSTART:20261025T010000
END:STANDARD
END:VTIMEZONE
BEGIN:VEVENT
DTSTART;TZID=Europe/London:20250712T000000
DTEND;TZID=Europe/London:20250712T235959
DTSTAMP:20260420T123140
CREATED:20230105T120050Z
LAST-MODIFIED:20250106T105213Z
UID:811-1752278400-1752364799@www.coastara.org
SUMMARY:Worthing Regatta 2025
DESCRIPTION:Worthing Regatta is held at Splash Point in Worthing\, directly from the rowing club. Parking is easy in one of the many town centre carparks in Worthing. Being a busy community beach. Rowers race from Worthing pier towards Shoreham over a 2km course which is great for spectators and can be followed from end to end on the cycle path.  \n\n\n\nResults: \n\n\n\nNote: Results are provisional shown otherwise – this can take up to 7days \n\n\n\nFinal Confirmed Results\nChampionship EventsVerdict1st2nd3rd4th5th6thOpen Novice ScullsNo RaceOpen Junior ScullsNo RaceOpen Senior ScullsEasyHBayBexShorHBayDovOpen Double ScullsNo RaceWomens Novice ScullsEasyShorSseaDovShorWortShorWomens Junior ScullsNo RaceWomens Double ScullsNo RaceOpen Junior PairsNo RaceOpen Senior Pairs3 LDealHBayShorFolkDNFWomens Junior PairsEasyEastShorDovHastShorFolkWomens Senior PairsEasyWortHBayShorWortSseaOpen Novice FoursEasy ShorEastHBayWortBexEastOpen Junior FoursEasyWortSseaHBayShorEastHastOpen J/S FoursNo RaceOpen Senior FoursNo RaceWomens Novice FoursNo RaceWomens Junior FoursNo RaceWomens Senior FoursEasyShorWortHBayShorMasters Open 40+ FoursNo RaceMasters Women's 40+ FoursEasyShorHBayEastShorShorWortMasters Open 50+ FoursNo Race              Non League Championships       Verdict1st2nd3rd4th5th6thLadies Open ScullsEasyWortShorHBayWortJ14 Mixed QuadsEasyShorHBayShorEastWortJ16 Boys Quads3LHBayShorShorHBayWortJ16 Girls Quads       \n\n\n\nWorthing Rowing Club website can be found here\, more information on the club is available at the below links:  \n\n\n\nBritish Rowing: https://www.britishrowing.org/rowing-activity-finder/club/?clubid=555
URL:https://www.coastara.org/events/worthing-regatta-2023/
LOCATION:Worthing Rowing Club\, Marine Parade\, Worthing\, West Sussex\, BN11 3PN\, United Kingdom
CATEGORIES:Regatta
END:VEVENT
BEGIN:VEVENT
DTSTART;TZID=Europe/London:20250713T000000
DTEND;TZID=Europe/London:20250713T235959
DTSTAMP:20260420T123140
CREATED:20250624T083206Z
LAST-MODIFIED:20250624T083539Z
UID:1332-1752364800-1752451199@www.coastara.org
SUMMARY:Hastings Regatta 2025
DESCRIPTION:Regatta re-scheduled to the 13th July (from the original date on the 14th of June) \n\n\n\n \n\n\n\nHastings Regatta has recently returned to Hastings after a few years being run at Bexhill. We welcome back the historical event and look forward to attending the newly refurbished club house. Located under the seafront in the centre of the town.  \n\n\n\nResults: \n\n\n\nNote: Results are provisional shown otherwise – this can take up to 7days \n\n\n\nFinal Confirmed Results\nChampionship EventsVerdict1st2nd3rd4th5th6thOpen Novice ScullsWortWortHastBexHastEastOpen Junior ScullsDovDovDealEastShorFolkOpen Senior ScullsShorHBayDovBexHBayBexOpen Double ScullsHBayShorShorHBayShorEastWomens Novice ScullsShorSseaDovEastShorShorWomens Junior ScullsHBayHastShorSseaBexWomens Double ScullsShorHBayShorHBayWortShorOpen Junior PairsShorHastHBayEastWortEastOpen Senior PairsDealDovShorHBayBexFolkWomens Junior PairsEastShorHastHBayFolkShorWomens Senior PairsWortShorHBayOpen Novice FoursShorHBayEastShorBexHBayOpen Junior FoursWortShorShorHBayHastEastOpen J/S FoursBexShorHBayEastBexOpen Senior FoursDovShorDealShorHBayBexWomens Novice FoursDealHBayShorHastShorCompWomens Junior FoursShorDovEastHBayBexFolkWomens Senior FoursShorHBayShorShorMasters Open 40+ FoursEastHastHBayMasters Women's 40+ FoursShorHBayFolkMasters Open 50+ FoursEastHastHBayShorBexDov              Non League Championships       Verdict1st2nd3rd4th5th6thJ14 Mixed QuadsShorWortHBayJ16 Mens QuadsShorShorHBayJ16 Womens QuadsShorWortHBayShor\n\n\n\nMore information on the club is available at the below links:  \n\n\n\nHastings Rowing Club Website: https://www.hastingsrowingclub.com/
URL:https://www.coastara.org/events/hastings-regatta-2022/
CATEGORIES:Regatta
END:VEVENT
BEGIN:VEVENT
DTSTART;TZID=Europe/London:20250719T000000
DTEND;TZID=Europe/London:20250719T235959
DTSTAMP:20260420T123140
CREATED:20161122T173917Z
LAST-MODIFIED:20250801T083049Z
UID:927-1752883200-1752969599@www.coastara.org
SUMMARY:Deal Regatta 2025
DESCRIPTION:Deal Regatta held\, by Deal\, Walmer & Kingsdown Amateur Rowing Club in Deal\, Kent. Deal Regatta is unique on the CARA rowing calendar as the only regatta to feature two turns. The course starts outside the rowing club\, and runs West towards Deal pier before turning back past the club to a second set of the turns and finishing back at the club. \n\n\n\nView the programme here:  \n\n\n\nResults: \n\n\n\nNote: Results are provisional shown otherwise – this can take up to 7days \n\n\n\nFinal Confirmed Results\nChampionship EventsVerdict1st2nd3rd4th5th6thOpen Novice ScullsEasyWortHastBexWortShorWortOpen Junior ScullsEasyDovShorShorDovDealFolkOpen Senior Sculls3LDealHbayHbayDovOpen Double Sculls1LWortHbayDealShorShorBexWomens Novice ScullsEasySseaEastDovWortFolkShorWomens Junior Sculls2LHbayHastWortShorSseaWomens Double ScullsEasyShorHbayWortShorShorDovOpen Junior PairsEasyHastHbayShorDovEastEastOpen Senior Pairs5LDealHbayDovFolkShorDNFWomens Junior Pairs1 1/2LEastShorDovHastFolkHbayWomens Senior PairsEasyHbayShorHbayFolkOpen Novice FoursEasyDealShorHbayEastHbayBexOpen Junior FoursEasyWortShorHbayShorEastEastOpen J/S FoursEasyBexEastHbayOpen Senior Fours5LDovDealShorDealWortDealWomens Novice Fours2LDovShorHbayHbayDealEastWomens Junior Fours3LShorDovEastHbayHbayShorWomens Senior FoursEasyShorHbayShorMasters Open 40+ FoursEasyEastHastDovMasters Women's 40+ FoursEasyShorHbayHbayDovFolkCompMasters Open 50+ Fours2LEastHastHbayCompShor              Non League Championships       Verdict1st2nd3rd4th5th6thJ14 Mixed Quads2LShorHbayDealDovJ16 Boys QuadsEasyShorHbayCompDovShorDealJ16 Girls Quads1/2 CanvasShorHbayDovCompDealManually add events here\n\n\n\nResults can be downloaded here:  \n\n\n\nCARA 2025 – Results Sheet – DealDownload\n\n\n\nDeal Regatta Programme 2025 2Download\n\n\n\n Deal\, Walmer & Kingsdown Amateur Rowing Club website can be found here\, more information on the club is available at the below links:  \n\n\n\nBritish Rowing: https://www.britishrowing.org/rowing-activity-finder/club/?clubid=551 \n\n\n\nDeal Rowing Club Website: https://dealrowingclub.weebly.com/ \n\n\n\nDeal Rowing Club\, Facebook: https://www.facebook.com/DealWalmerKingsdownAmateurRowingClub/ \n\n\n\nDeal Rowing Club\, Twitter: https://twitter.com/dealrowing?lang=en
URL:https://www.coastara.org/events/deal-regatta-2/
CATEGORIES:Regatta
ATTACH;FMTTYPE=image/jpeg:https://www.coastara.org/wp-content/uploads/2021/07/logo_1_orig.jpg
END:VEVENT
BEGIN:VEVENT
DTSTART;TZID=Europe/London:20250720T000000
DTEND;TZID=Europe/London:20250720T235959
DTSTAMP:20260420T123141
CREATED:20230110T220917Z
LAST-MODIFIED:20250707T123352Z
UID:819-1752969600-1753055999@www.coastara.org
SUMMARY:Dover Regatta 2025
DESCRIPTION:Re-scheduled date now confirmed as 20th of July \n\n\n\n \n\n\n\nDover Regatta takes place in the the busy at Dover Beach in the heart of the Port of Dover running over a 1.6km course which cuts directly across the inner harbour from the western side to the eastern side.  \n\n\n\nThere is plenty of parking along Marine Parade and good facilities at the waterspouts hub where the club is based.  \n\n\n\nResults:\n\n\n\nNote: Results are provisional shown otherwise – this can take up to 7days \n\n\n\nFinal Confirmed Results\nChampionship EventsVerdict1st2nd3rd4th5th6thOpen Novice ScullsEasyDovHastShorShorOpen Junior ScullsEasyDovShorDealShorWortHastOpen Senior Sculls3 LHBayDovDovBexOpen Double Sculls3 LHBayShorDealBexShorEastWomens Novice ScullsDovShorWomens Junior ScullsEasyHBayHastShorWomens Double Sculls3 LHBayShorDovDovShorHBayOpen Junior Pairs3 LHastWortHBayShorEastShorOpen Senior Pairs2 LDealDovHastShorFolkWomens Junior PairsEasyEastHBayDovFolkHastHBayWomens Senior PairsEasyWortShorDovOpen Novice FoursEasyEastHBayDovShorBexHBayOpen Junior Fours3 LWortShorHastEastDealHBayOpen J/S FoursEasyEastBexHBayDovOpen Senior FoursEasyDovHBayBexDovDovWomens Novice FoursEasyDovShorHBayEastShorFolkWomens Junior Fours3 LHBayDovShorEastFolkHBayWomens Senior FoursEasyShorHBayDovMasters Open 40+ FoursEasyEastHastHBayHBayEastDovMasters Women's 40+ FoursEasyShorHBayFolkDovCompMasters Open 50+ Fours3 LEastHastHBayDovShorBex              Non League Championships       Verdict1st2nd3rd4th5th6thJ14 Mixed QuadsHBayDovDovJ16 Mens QuadsEasyShorHBayDovCompJ16 Womens QuadsEasyHBayShorDovDealDovManually add events here\n\n\n\nDover Rowing Club website can be found here\, more information on the club is available at the below links: \n\n\n\nBritish Rowing: https://www.britishrowing.org/rowing-activity-finder/club/?clubid=552 \n\n\n\nDover Rowing Club Website: https://doverrowingclub.co.uk/ \n\n\n\nDover Rowing Club Facebook: https://www.facebook.com/groups/7733771124
URL:https://www.coastara.org/events/dover-regatta-2023/
LOCATION:Dover Rowing Club\, Dover Sea Sports Centre\, Dover\, Kent\, CT17 9FS\, United Kingdom
CATEGORIES:Regatta
END:VEVENT
BEGIN:VEVENT
DTSTART;TZID=Europe/London:20250726T000000
DTEND;TZID=Europe/London:20250726T235959
DTSTAMP:20260420T123141
CREATED:20230122T133031Z
LAST-MODIFIED:20250801T083012Z
UID:826-1753488000-1753574399@www.coastara.org
SUMMARY:Herne Bay Regatta 2025
DESCRIPTION:Herne Bay Amateur Rowing Club is a north Kent Coastal Rowing club. Rowing along the South Coast since 1887. Herne Bay regatta is held at the club house on Spa Esplanade\, over a 2km course heading East towards the town and the pier around about buoy turn and back\, finishing outside the club.  \n\n\n\nNote that limited parking only is available in Hampton Pier Car park on the day of the regatta\, only boat trailers will be permitted.   \n\n\n\nResults:\n\n\n\nNote: Results are provisional shown otherwise – this can take up to 7days \n\n\n\nFinal Confirmed Results\nChampionship EventsVerdict1st2nd3rd4thOpen Novice ScullsShorWortHastHastOpen Junior ScullsDealDovShorDealOpen Senior ScullsHBayShorHBayDovOpen Double ScullsCanvasWortShorHBayDovWomens Novice ScullsHBayDovFolkShorWomens Junior ScullsHBayWortShorHastWomens Double ScullsHBayShorWortShorOpen Junior Pairs1/2 CanvasHastHBayEastHBayOpen Senior PairsEasyDealDovHBayFolkWomens Junior PairsEasyEastShorShorHBayWomens Senior Pairs2 LHBayWortShorFolkOpen Novice FoursEasyHBayEastHBayHBayOpen Junior FoursEasyWortShorHBayShorOpen J/S FoursEasyHBayEastHBayOpen Senior Fours1 LHBayDealDovShorWomens Novice FoursEasyHBayShorHBayDovWomens Junior FoursEasyDovShorHBayShorWomens Senior FoursEasyShorHBayHBayWortMasters Open 40+ FoursEasyEastHBayHBayDovMasters Women's 40+ Fours1 LShorHBayHBayDovMasters Open 50+ FoursEasyEastHBayHBay          Non League Championships     Verdict1st2nd3rd4thJ14 Mixed QuadsCanvasHBayCompDealCompJ16 Boys QuadsEasyShorHBayDovShorJ16 Girls QuadsEasyHBayShorDovHBayManually add events here\n\n\n\nResults can be downloaded here: \n\n\n\nCARA 2025 – Results Sheet – Herne BayDownload\n\n\n\nHerne Bay Amateur Rowing Club website can be found here\, more information on the club is available at the below links: \n\n\n\nBritish Rowing: https://www.britishrowing.org/rowing-activity-finder/club/?clubid=743 \n\n\n\nHerne Bay Rowing Club Website: www.hbarc.org.uk \n\n\n\nHerne Bay Rowing Club\, Facebook: https://www.facebook.com/HerneBayRowingClub \n\n\n\nHerne Bay Rowing Club\, Twitter: https://twitter.com/hbarc
URL:https://www.coastara.org/events/herne-bay-regatta/
LOCATION:Herne Bay Rowing Club\, Spa Esplanade\, Herne Bay\, Kent\, CT6 8EP\, United Kingdom
CATEGORIES:Regatta
ATTACH;FMTTYPE=image/jpeg:https://www.coastara.org/wp-content/uploads/2016/03/rowing_5-scaled.jpg
END:VEVENT
BEGIN:VEVENT
DTSTART;TZID=Europe/London:20250727T000000
DTEND;TZID=Europe/London:20250727T235959
DTSTAMP:20260420T123141
CREATED:20220509T163313Z
LAST-MODIFIED:20250624T083311Z
UID:696-1753574400-1753660799@www.coastara.org
SUMMARY:Folkestone Regatta 2025
DESCRIPTION:Folkestone Regatta is held at Folkestone Rowing Club\, just outside the Folkestone in Sandgate. The event runs along Sandgate beach from West to East over a 2km course.  \n\n\n\nResults:\n\n\n\nNote: Results are provisional shown otherwise – this can take up to 7days \n\n\n\nFinal Confirmed Results\nChampionship EventsVerdict1st2nd3rd4th5th6thOpen Novice ScullsEasyShorWortShorBexHastHastOpen Junior ScullsEasyDovEastShorHastOpen Senior ScullsEasyShorHBayDovDealOpen Double ScullsEasyShorDealWortDovShorShorWomens Novice ScullsEasyShorDovFolkHBayWomens Junior Sculls2 LHastHBayBexShorWomens Double ScullsEasyHBayShorShorFolkDovWortOpen Junior Pairs2 LHastHBayWortShorEastShorOpen Senior PairsEasyDealShorDovFolkWomens Junior PairsEasyEastShorHBayHastFolkDovWomens Senior PairsEasyWortHBayShorFolkOpen Novice FoursEasyDovEastShorHBayHBayWortOpen Junior FoursWortShorHBayHastShorEastOpen J/S FoursHBayEastFolkOpen Senior FoursEasyDealShorDovWortBexWomens Novice FoursEasyDovHBayHastDealEastBexWomens Junior FoursEasyShorEastDovHBayHBayBexWomens Senior FoursEasyShorHBayMasters Open 40+ Fours3 LEastHastFolkHBayEastMasters Women's 40+ FoursEasyShorHBayFolkDovCompHBayMasters Open 50+ Fours2 LEastHastHBayFolkHBay              Non League Championships       Verdict1st2nd3rd4th5th6thLadies Open ScullsCanvasDealHBayCompJ14 Mixed QuadsEasyShorDovHBayShorDealFolkJ16 Boys Quads1/2 LFolkHBayShorDovHBayJ16 Girls Quads
URL:https://www.coastara.org/events/folkestone-regatta-2015/
LOCATION:Folkestone Rowing Club\, The Parade\, Sandgate\, Kent\, CT20 3AL\, United Kingdom
CATEGORIES:Regatta
END:VEVENT
END:VCALENDAR