BEGIN:VCALENDAR
VERSION:2.0
PRODID:-//CARA - Coast Amateur Rowing Association - ECPv6.15.20//NONSGML v1.0//EN
CALSCALE:GREGORIAN
METHOD:PUBLISH
X-ORIGINAL-URL:https://www.coastara.org
X-WR-CALDESC:Events for CARA - Coast Amateur Rowing Association
REFRESH-INTERVAL;VALUE=DURATION:PT1H
X-Robots-Tag:noindex
X-PUBLISHED-TTL:PT1H
BEGIN:VTIMEZONE
TZID:Europe/London
BEGIN:DAYLIGHT
TZOFFSETFROM:+0000
TZOFFSETTO:+0100
TZNAME:BST
DTSTART:20240331T010000
END:DAYLIGHT
BEGIN:STANDARD
TZOFFSETFROM:+0100
TZOFFSETTO:+0000
TZNAME:GMT
DTSTART:20241027T010000
END:STANDARD
BEGIN:DAYLIGHT
TZOFFSETFROM:+0000
TZOFFSETTO:+0100
TZNAME:BST
DTSTART:20250330T010000
END:DAYLIGHT
BEGIN:STANDARD
TZOFFSETFROM:+0100
TZOFFSETTO:+0000
TZNAME:GMT
DTSTART:20251026T010000
END:STANDARD
BEGIN:DAYLIGHT
TZOFFSETFROM:+0000
TZOFFSETTO:+0100
TZNAME:BST
DTSTART:20260329T010000
END:DAYLIGHT
BEGIN:STANDARD
TZOFFSETFROM:+0100
TZOFFSETTO:+0000
TZNAME:GMT
DTSTART:20261025T010000
END:STANDARD
END:VTIMEZONE
BEGIN:VEVENT
DTSTART;TZID=Europe/London:20250713T000000
DTEND;TZID=Europe/London:20250713T235959
DTSTAMP:20260422T105116
CREATED:20250624T083206Z
LAST-MODIFIED:20250624T083539Z
UID:1332-1752364800-1752451199@www.coastara.org
SUMMARY:Hastings Regatta 2025
DESCRIPTION:Regatta re-scheduled to the 13th July (from the original date on the 14th of June) \n\n\n\n \n\n\n\nHastings Regatta has recently returned to Hastings after a few years being run at Bexhill. We welcome back the historical event and look forward to attending the newly refurbished club house. Located under the seafront in the centre of the town.  \n\n\n\nResults: \n\n\n\nNote: Results are provisional shown otherwise – this can take up to 7days \n\n\n\nFinal Confirmed Results\nChampionship EventsVerdict1st2nd3rd4th5th6thOpen Novice ScullsWortWortHastBexHastEastOpen Junior ScullsDovDovDealEastShorFolkOpen Senior ScullsShorHBayDovBexHBayBexOpen Double ScullsHBayShorShorHBayShorEastWomens Novice ScullsShorSseaDovEastShorShorWomens Junior ScullsHBayHastShorSseaBexWomens Double ScullsShorHBayShorHBayWortShorOpen Junior PairsShorHastHBayEastWortEastOpen Senior PairsDealDovShorHBayBexFolkWomens Junior PairsEastShorHastHBayFolkShorWomens Senior PairsWortShorHBayOpen Novice FoursShorHBayEastShorBexHBayOpen Junior FoursWortShorShorHBayHastEastOpen J/S FoursBexShorHBayEastBexOpen Senior FoursDovShorDealShorHBayBexWomens Novice FoursDealHBayShorHastShorCompWomens Junior FoursShorDovEastHBayBexFolkWomens Senior FoursShorHBayShorShorMasters Open 40+ FoursEastHastHBayMasters Women's 40+ FoursShorHBayFolkMasters Open 50+ FoursEastHastHBayShorBexDov              Non League Championships       Verdict1st2nd3rd4th5th6thJ14 Mixed QuadsShorWortHBayJ16 Mens QuadsShorShorHBayJ16 Womens QuadsShorWortHBayShor\n\n\n\nMore information on the club is available at the below links:  \n\n\n\nHastings Rowing Club Website: https://www.hastingsrowingclub.com/
URL:https://www.coastara.org/events/hastings-regatta-2022/
CATEGORIES:Regatta
END:VEVENT
END:VCALENDAR