BEGIN:VCALENDAR
VERSION:2.0
PRODID:-//CARA - Coast Amateur Rowing Association - ECPv6.15.20//NONSGML v1.0//EN
CALSCALE:GREGORIAN
METHOD:PUBLISH
X-ORIGINAL-URL:https://www.coastara.org
X-WR-CALDESC:Events for CARA - Coast Amateur Rowing Association
REFRESH-INTERVAL;VALUE=DURATION:PT1H
X-Robots-Tag:noindex
X-PUBLISHED-TTL:PT1H
BEGIN:VTIMEZONE
TZID:Europe/London
BEGIN:DAYLIGHT
TZOFFSETFROM:+0000
TZOFFSETTO:+0100
TZNAME:BST
DTSTART:20240331T010000
END:DAYLIGHT
BEGIN:STANDARD
TZOFFSETFROM:+0100
TZOFFSETTO:+0000
TZNAME:GMT
DTSTART:20241027T010000
END:STANDARD
BEGIN:DAYLIGHT
TZOFFSETFROM:+0000
TZOFFSETTO:+0100
TZNAME:BST
DTSTART:20250330T010000
END:DAYLIGHT
BEGIN:STANDARD
TZOFFSETFROM:+0100
TZOFFSETTO:+0000
TZNAME:GMT
DTSTART:20251026T010000
END:STANDARD
BEGIN:DAYLIGHT
TZOFFSETFROM:+0000
TZOFFSETTO:+0100
TZNAME:BST
DTSTART:20260329T010000
END:DAYLIGHT
BEGIN:STANDARD
TZOFFSETFROM:+0100
TZOFFSETTO:+0000
TZNAME:GMT
DTSTART:20261025T010000
END:STANDARD
END:VTIMEZONE
BEGIN:VEVENT
DTSTART;TZID=Europe/London:20250727T000000
DTEND;TZID=Europe/London:20250727T235959
DTSTAMP:20260422T112214
CREATED:20220509T163313Z
LAST-MODIFIED:20250624T083311Z
UID:696-1753574400-1753660799@www.coastara.org
SUMMARY:Folkestone Regatta 2025
DESCRIPTION:Folkestone Regatta is held at Folkestone Rowing Club\, just outside the Folkestone in Sandgate. The event runs along Sandgate beach from West to East over a 2km course.  \n\n\n\nResults:\n\n\n\nNote: Results are provisional shown otherwise – this can take up to 7days \n\n\n\nFinal Confirmed Results\nChampionship EventsVerdict1st2nd3rd4th5th6thOpen Novice ScullsEasyShorWortShorBexHastHastOpen Junior ScullsEasyDovEastShorHastOpen Senior ScullsEasyShorHBayDovDealOpen Double ScullsEasyShorDealWortDovShorShorWomens Novice ScullsEasyShorDovFolkHBayWomens Junior Sculls2 LHastHBayBexShorWomens Double ScullsEasyHBayShorShorFolkDovWortOpen Junior Pairs2 LHastHBayWortShorEastShorOpen Senior PairsEasyDealShorDovFolkWomens Junior PairsEasyEastShorHBayHastFolkDovWomens Senior PairsEasyWortHBayShorFolkOpen Novice FoursEasyDovEastShorHBayHBayWortOpen Junior FoursWortShorHBayHastShorEastOpen J/S FoursHBayEastFolkOpen Senior FoursEasyDealShorDovWortBexWomens Novice FoursEasyDovHBayHastDealEastBexWomens Junior FoursEasyShorEastDovHBayHBayBexWomens Senior FoursEasyShorHBayMasters Open 40+ Fours3 LEastHastFolkHBayEastMasters Women's 40+ FoursEasyShorHBayFolkDovCompHBayMasters Open 50+ Fours2 LEastHastHBayFolkHBay              Non League Championships       Verdict1st2nd3rd4th5th6thLadies Open ScullsCanvasDealHBayCompJ14 Mixed QuadsEasyShorDovHBayShorDealFolkJ16 Boys Quads1/2 LFolkHBayShorDovHBayJ16 Girls Quads
URL:https://www.coastara.org/events/folkestone-regatta-2015/
LOCATION:Folkestone Rowing Club\, The Parade\, Sandgate\, Kent\, CT20 3AL\, United Kingdom
CATEGORIES:Regatta
END:VEVENT
END:VCALENDAR