BEGIN:VCALENDAR
VERSION:2.0
PRODID:-//CARA - Coast Amateur Rowing Association - ECPv6.15.20//NONSGML v1.0//EN
CALSCALE:GREGORIAN
METHOD:PUBLISH
X-WR-CALNAME:CARA - Coast Amateur Rowing Association
X-ORIGINAL-URL:https://www.coastara.org
X-WR-CALDESC:Events for CARA - Coast Amateur Rowing Association
REFRESH-INTERVAL;VALUE=DURATION:PT1H
X-Robots-Tag:noindex
X-PUBLISHED-TTL:PT1H
BEGIN:VTIMEZONE
TZID:Europe/London
BEGIN:DAYLIGHT
TZOFFSETFROM:+0000
TZOFFSETTO:+0100
TZNAME:BST
DTSTART:20240331T010000
END:DAYLIGHT
BEGIN:STANDARD
TZOFFSETFROM:+0100
TZOFFSETTO:+0000
TZNAME:GMT
DTSTART:20241027T010000
END:STANDARD
BEGIN:DAYLIGHT
TZOFFSETFROM:+0000
TZOFFSETTO:+0100
TZNAME:BST
DTSTART:20250330T010000
END:DAYLIGHT
BEGIN:STANDARD
TZOFFSETFROM:+0100
TZOFFSETTO:+0000
TZNAME:GMT
DTSTART:20251026T010000
END:STANDARD
BEGIN:DAYLIGHT
TZOFFSETFROM:+0000
TZOFFSETTO:+0100
TZNAME:BST
DTSTART:20260329T010000
END:DAYLIGHT
BEGIN:STANDARD
TZOFFSETFROM:+0100
TZOFFSETTO:+0000
TZNAME:GMT
DTSTART:20261025T010000
END:STANDARD
END:VTIMEZONE
BEGIN:VEVENT
DTSTART;TZID=Europe/London:20250809T000000
DTEND;TZID=Europe/London:20250809T235959
DTSTAMP:20260420T154658
CREATED:20160330T210804Z
LAST-MODIFIED:20250624T083503Z
UID:818-1754697600-1754783999@www.coastara.org
SUMMARY:Eastbourne Regatta 2025
DESCRIPTION:Regatta re-scheduled from the 10th May to the 9th August \n\n\n\n \n\n\n\nEastbourne Regatta is held at Eastbourne Rowing Club  \n\n\n\nNote: Results are provisional shown otherwise – this can take up to 7days\n\n\n\nFinal Confirmed Results\nChampionship EventsVerdict1st2nd3rd4th5th6thOpen Novice ScullsHastSseaHastEastOpen Junior ScullsDovDealShorShorEastWortOpen Senior ScullsShorHbayShorBexDovHBayOpen Double ScullsNot racedWomens Novice ScullsSseaHBayShorBexDovHBayWomens Junior ScullsEasyHastShorSseaSseaWomens Double ScullsNot racedOpen Junior PairsHastHbayEastWortEastWortOpen Senior PairsEasyDealShorFolkHBayWomens Junior PairsShorEastHbayDovHastWomens Senior PairsShorWortShorSseaSseaOpen Novice FoursEastShorDovEastHbayEastOpen Junior FoursSseaWortHBayShorShorBexOpen J/S FoursBexHBayEastBexOpen Senior FoursDovDealHBayShorBexShorWomens Novice FoursHBayHbayEastShorFolkSseaWomens Junior FoursShorDovEastShorHBayShorWomens Senior FoursShorShorHBayEastShorMasters Open 40+ FoursEastHastEastMasters Women's 40+ FoursV. EasyShorHBayEastShorShorMasters Open 50+ FoursHastEastEastHBayWort              Non League Championships       Verdict1st2nd3rd4th5th6thJ14 Mixed QuadsShorHBayDealJ16 Mens QuadsShorHBayEastShorJ16 Womens QuadsHBayShorShorDovHBayWort\n\n\n\nThe Eastbourne Rowing Club website can be found below\, more information on the club is available at the below links:  \n\n\n\nEastbourne Rowing Club Website: Eastbourne Rowing Club Website/
URL:https://www.coastara.org/events/eastbourne-regatta-2016/
LOCATION:Eastbourne Rowing Club\, The baothouse\, Royal Parade\, East Sussex\, BN22 7LD\, United Kingdom
CATEGORIES:Regatta
END:VEVENT
END:VCALENDAR